BEGIN:VCALENDAR
VERSION:2.0
PRODID:-//gohugo.io//Hugo FWSECK Website Theme//EN
METHOD:PUBLISH
CALSCALE:GREGORIAN
BEGIN:VEVENT
UID:/site/veranstaltungen/termine/schule/20260502_maskenball/@waldorf-eckernfoerde.de
DTSTART:20260502T173000Z
SEQUENCE:0
TRANSP:TRANSPARENT
STATUS:CONFIRMED
DTEND:20260502T215900Z
SUMMARY:Maskenball
DESCRIPTION: Frühlingsball der FWS Eckernförde
LOCATION:Schleswiger Straße 112, 24340 Eckernförde
DTSTAMP:20260422T175300Z
CREATED:20260502T173000Z
LAST-MODIFIED:20260422T175300Z
END:VEVENT
BEGIN:VTIMEZONE
TZID:Europe/Berlin
BEGIN:STANDARD
DTSTART:20221030T010000Z
RDATE:20230326T010000Z
TZOFFSETFROM:+0200
TZOFFSETTO:+0100
TZNAME:CET
END:STANDARD
BEGIN:DAYLIGHT
DTSTART:20220327T010000Z
RDATE:20221030T010000Z
TZOFFSETFROM:+0100
TZOFFSETTO:+0200
TZNAME:CEST
END:DAYLIGHT
END:VTIMEZONE
END:VCALENDAR
